BEGIN:VCALENDAR
VERSION:2.0
PRODID:-//Hebden Bridge Little Theatre - ECPv6.15.19//NONSGML v1.0//EN
CALSCALE:GREGORIAN
METHOD:PUBLISH
X-ORIGINAL-URL:https://hblt.co.uk
X-WR-CALDESC:Events for Hebden Bridge Little Theatre
REFRESH-INTERVAL;VALUE=DURATION:PT1H
X-Robots-Tag:noindex
X-PUBLISHED-TTL:PT1H
BEGIN:VTIMEZONE
TZID:UTC
BEGIN:STANDARD
TZOFFSETFROM:+0000
TZOFFSETTO:+0000
TZNAME:UTC
DTSTART:20210101T000000
END:STANDARD
END:VTIMEZONE
BEGIN:VEVENT
DTSTART;TZID=UTC:20220515T143000
DTEND;TZID=UTC:20220515T170000
DTSTAMP:20260425T102910
CREATED:20220330T090213Z
LAST-MODIFIED:20220330T090603Z
UID:13863-1652625000-1652634000@hblt.co.uk
SUMMARY:Comedy Afternoon Live
DESCRIPTION:Comedy Afternoon Live is at Hebden Bridge Little Theatre on Sunday 15 May 2022. \nThe afternoon’s line-up:\nHeadliner Justin Moorhouse\nAs seen on Peter Kay’s Phoenix Nights.\nJustin’s TV and radio appearances have included Alan Davies ‘As yet Untitled’ on Dave\, Peter Kay’s Phoenix Nights\, Max and Paddy\, Live At The Apollo\, Coronation Street\, and Looking for Eric\, as well as being a circuit regular\, comedian\, actor\, and undercover vegan! \nLaura Smyth\n‘A force of nature’\nAs seen on Jonathan Ross’s Comedy Club\nLaura Smyth is making waves on the comedy scene\, this working-class East Londoner won the Funny Women Awards in 2019 only 7 months after her first ever stand up gig.\n‘Sounds like she has been doing it all her life’ \nHosted by hilarious MC Bobby Murdock. \nDoors 2pm\nShow 2.30pm \nTicket Only £10 each.\nOn the door or book online: https://www.wegottickets.com/event/542897. \nThis will be a very popular event Book your tickets now to avoid disappointment!
URL:https://hblt.co.uk/diary/comedy-afternoon-live-2-2
LOCATION:Hebden Bridge Little Theatre\, Holme Street\, Hebden Bridge\, HX7 8EE
CATEGORIES:External
ATTACH;FMTTYPE=image/jpeg:https://hblt.co.uk/wp-content/uploads/2022/03/Hebden-Bridge-Front5639-scaled.jpg
END:VEVENT
END:VCALENDAR