BEGIN:VCALENDAR
VERSION:2.0
PRODID:-//Hebden Bridge Little Theatre - ECPv6.15.19//NONSGML v1.0//EN
CALSCALE:GREGORIAN
METHOD:PUBLISH
X-ORIGINAL-URL:https://hblt.co.uk
X-WR-CALDESC:Events for Hebden Bridge Little Theatre
REFRESH-INTERVAL;VALUE=DURATION:PT1H
X-Robots-Tag:noindex
X-PUBLISHED-TTL:PT1H
BEGIN:VTIMEZONE
TZID:UTC
BEGIN:STANDARD
TZOFFSETFROM:+0000
TZOFFSETTO:+0000
TZNAME:UTC
DTSTART:20170101T000000
END:STANDARD
END:VTIMEZONE
BEGIN:VEVENT
DTSTART;TZID=UTC:20180404T193000
DTEND;TZID=UTC:20180404T220000
DTSTAMP:20260420T152818
CREATED:20180326T140539Z
LAST-MODIFIED:20180326T140646Z
UID:6699-1522870200-1522879200@hblt.co.uk
SUMMARY:Social Play Reading Group
DESCRIPTION:The next play for the Social Play Reading Group will be a saucy comedy\, Chase Me Up Farndale Avenue\, s’il vous plaît! by David McGillivray and Walter Zerlin Jnr. The French farce has arrived at the Farndale Avenue Housing Estate Townswomen’s Guild Dramatic Society\, and the formidable ladies do it like no one else! An unintelligible plot\, a plethora of doors and a grand range of characters make this Farndale offering as bubbly as a glass of champagne. If you have ever seen any of the other Farndale Avenue Housing Estate plays and enjoyed them\, you will appreciate this style of ‘coarse theatre’ and  the comedy which results from theatre done badly on purpose. Everyone is welcome to read or just listen. \nThe SPRG meets to read this jolly romp\, on Wednesday\, 4 April\, at 7.30pm\, in the Little Theatre.
URL:https://hblt.co.uk/diary/social-play-reading-group-2-2-2
LOCATION:Hebden Bridge Little Theatre\, Holme Street\, Hebden Bridge\, HX7 8EE
CATEGORIES:Internal
ATTACH;FMTTYPE=image/jpeg:https://hblt.co.uk/wp-content/uploads/2016/09/13254465_1057425547658234_96292924933005641_n.jpg
END:VEVENT
BEGIN:VEVENT
DTSTART;VALUE=DATE:20180416
DTEND;VALUE=DATE:20180422
DTSTAMP:20260420T152818
CREATED:20171018T090025Z
LAST-MODIFIED:20171024T215811Z
UID:5070-1523836800-1524355199@hblt.co.uk
SUMMARY:Gaslight
DESCRIPTION:By Patrick Hamilton\, directed by Hannah Stow \nWhat terrors lurk in the shadows\, for Bella Manningham\, when her husband mysteriously disappears from the house\, and the gas lights dim? This classic psychological thriller\, by Patrick Hamilton\, set in a Victorian world shrouded in fog\, and lit by flickering gaslight\, uses every device to unsettle its audience. We share Bella’s growing apprehension and self-doubt. Is she going mad as her husband claims? \nGaslight has been a popular hit since it was written in 1938\, enjoying a recent revival with Kara Tointon as the tormented spouse. Please join us as we embark on a nail-biting journey into the Haunted House of Horrors!
URL:https://hblt.co.uk/diary/gaslight
LOCATION:Hebden Bridge Little Theatre\, Holme Street\, Hebden Bridge\, HX7 8EE
CATEGORIES:Internal
ATTACH;FMTTYPE=image/jpeg:https://hblt.co.uk/wp-content/uploads/2017/10/rsz_2017gaslightposter.jpg
END:VEVENT
END:VCALENDAR