BEGIN:VCALENDAR
VERSION:2.0
PRODID:-//Hebden Bridge Little Theatre - ECPv6.15.19//NONSGML v1.0//EN
CALSCALE:GREGORIAN
METHOD:PUBLISH
X-ORIGINAL-URL:https://hblt.co.uk
X-WR-CALDESC:Events for Hebden Bridge Little Theatre
REFRESH-INTERVAL;VALUE=DURATION:PT1H
X-Robots-Tag:noindex
X-PUBLISHED-TTL:PT1H
BEGIN:VTIMEZONE
TZID:UTC
BEGIN:STANDARD
TZOFFSETFROM:+0000
TZOFFSETTO:+0000
TZNAME:UTC
DTSTART:20250101T000000
END:STANDARD
END:VTIMEZONE
BEGIN:VEVENT
DTSTART;VALUE=DATE:20260615
DTEND;VALUE=DATE:20260621
DTSTAMP:20260420T153119
CREATED:20260116T214655Z
LAST-MODIFIED:20260402T180639Z
UID:26441-1781481600-1781999999@hblt.co.uk
SUMMARY:Hobson's Choice
DESCRIPTION:Hobson’s Choice by Harold Brighouse \nDirected by Ros O’Connor & Neil Lloyd \nMon 15th – Sat 20th June 2026\n7.30 p.m \nHobson’s Choice: One Stubborn Man – three headstrong daughters … what could possibly go wrong? \nTickets available now! \nPoster designed by H. Stow c/o HBLT  \n 
URL:https://hblt.co.uk/diary/hobsons-choice
LOCATION:Hebden Bridge Little Theatre\, Holme Street\, Hebden Bridge\, HX7 8EE
CATEGORIES:Internal
ATTACH;FMTTYPE=image/jpeg:https://hblt.co.uk/wp-content/uploads/2026/01/WhatsApp-Image-2026-01-16-at-22.22.05.jpeg
END:VEVENT
END:VCALENDAR