BEGIN:VCALENDAR
VERSION:2.0
PRODID:-//Hebden Bridge Little Theatre - ECPv6.15.19//NONSGML v1.0//EN
CALSCALE:GREGORIAN
METHOD:PUBLISH
X-WR-CALNAME:Hebden Bridge Little Theatre
X-ORIGINAL-URL:https://hblt.co.uk
X-WR-CALDESC:Events for Hebden Bridge Little Theatre
REFRESH-INTERVAL;VALUE=DURATION:PT1H
X-Robots-Tag:noindex
X-PUBLISHED-TTL:PT1H
BEGIN:VTIMEZONE
TZID:UTC
BEGIN:STANDARD
TZOFFSETFROM:+0000
TZOFFSETTO:+0000
TZNAME:UTC
DTSTART:20250101T000000
END:STANDARD
END:VTIMEZONE
BEGIN:VEVENT
DTSTART;TZID=UTC:20260321T193000
DTEND;TZID=UTC:20260321T220000
DTSTAMP:20260424T141008
CREATED:20260111T205336Z
LAST-MODIFIED:20260111T213911Z
UID:26411-1774121400-1774130400@hblt.co.uk
SUMMARY:Bindweed
DESCRIPTION:Bindweed\, a play by Martha Loader \nA Rise & Howl Production\nDirected by Paul Chewins \nSat 21st March 2026\n7:30pm \n“Thursdays\, curry night. Curry and a pint for a fiver. Go at five thirty\, home by ten. Beat my mum up for a while. Bed by ten thirty.”  \nIn a run-down community centre\, four men convicted of domestic abuse offences gather each week in a last-chance programme to keep them out of prison. Leading them is Jen\, a former police officer with her own secrets and scars.   \nBindweed is a shattering and darkly funny play about responsibility and rehabilitation\, which looks at what can be done to tackle abuse at its root and asks whether accountability can ever truly lead to transformation. This powerful\, intimate exploration is theatre at its most compelling; not just a play but a conversation society desperately needs. \nThis is an amateur production by arrangement with Nick Hern Books. \nTickets Available \n 
URL:https://hblt.co.uk/diary/bindweed
LOCATION:Hebden Bridge Little Theatre\, Holme Street\, Hebden Bridge\, HX7 8EE
CATEGORIES:External
ATTACH;FMTTYPE=image/jpeg:https://hblt.co.uk/wp-content/uploads/2026/01/BindWeed.jpg
END:VEVENT
END:VCALENDAR