BEGIN:VCALENDAR
VERSION:2.0
PRODID:-//Hebden Bridge Little Theatre - ECPv6.15.19//NONSGML v1.0//EN
CALSCALE:GREGORIAN
METHOD:PUBLISH
X-WR-CALNAME:Hebden Bridge Little Theatre
X-ORIGINAL-URL:https://hblt.co.uk
X-WR-CALDESC:Events for Hebden Bridge Little Theatre
REFRESH-INTERVAL;VALUE=DURATION:PT1H
X-Robots-Tag:noindex
X-PUBLISHED-TTL:PT1H
BEGIN:VTIMEZONE
TZID:UTC
BEGIN:STANDARD
TZOFFSETFROM:+0000
TZOFFSETTO:+0000
TZNAME:UTC
DTSTART:20240101T000000
END:STANDARD
END:VTIMEZONE
BEGIN:VEVENT
DTSTART;VALUE=DATE:20250702
DTEND;VALUE=DATE:20250706
DTSTAMP:20260424T094227
CREATED:20250226T202805Z
LAST-MODIFIED:20250226T202805Z
UID:20055-1751414400-1751759999@hblt.co.uk
SUMMARY:Nunsense 2 - The Second Coming
DESCRIPTION:Nunsense 2 \nWednesday 2 – Saturday 5 July 7.30pm \nSaturday 5 July Matinee 2.15pm  \nThe Little Sisters of Hoboken make a triumphant return to Hebden Bridge.  This time round\, they’re not on the set of Grease (farewell to Rydell High) but another venue has been found.  The ups and downs of a Sister’s life provide comedy gold\, and the singing is – well – quite divine\, darling! \nThe production is in the capable hands of Steve Tetlow \, choreography is with Jane Fletcher \, and the musical director is Steve Tetlow . \nA team of the highest experience\, who can guarantee a great show. \nTICKETS AVAILABLE \n 
URL:https://hblt.co.uk/diary/nunsense-2-the-second-coming
LOCATION:Hebden Bridge Little Theatre\, Holme Street\, Hebden Bridge\, HX7 8EE
CATEGORIES:External
ATTACH;FMTTYPE=image/jpeg:https://hblt.co.uk/wp-content/uploads/2025/02/nuns-scaled.jpg
END:VEVENT
BEGIN:VEVENT
DTSTART;VALUE=DATE:20250709
DTEND;VALUE=DATE:20250713
DTSTAMP:20260424T094227
CREATED:20250410T083308Z
LAST-MODIFIED:20250415T174857Z
UID:23656-1752019200-1752364799@hblt.co.uk
SUMMARY:Last Dance on the Riveria
DESCRIPTION:Last Dance on the Riveria by Chris Berry  \n9th – 12th July 2025  \nLast Dance on the Riviera is the first of several new plays from Chris Berry Theatre. The story opens with the marriage of David and Heloise Talbot in 1912\, then jumps forward to the glitzy Côte d’Azur in 1934. David is caught between British and other spy agencies as they attempt to outwit each other\, sowing the seeds that will eventually lead to World War Two. As loyalties shift and battle lines are drawn\, David has to decide who can be trusted\, as a ghost from his past threatens everything he has believed. \n‘This will end in hurt and death. These things always do.’ \nDirected by Sharon Old  \nTICKETS AVAILABLE HERE  \n£15 (£12 concessions) \n 
URL:https://hblt.co.uk/diary/last-dance-on-the-riveria
LOCATION:Hebden Bridge Little Theatre\, Holme Street\, Hebden Bridge\, HX7 8EE
CATEGORIES:External
ATTACH;FMTTYPE=image/jpeg:https://hblt.co.uk/wp-content/uploads/2025/04/LDOTR.jpg
END:VEVENT
BEGIN:VEVENT
DTSTART;TZID=UTC:20250719T193000
DTEND;TZID=UTC:20250719T203000
DTSTAMP:20260424T094227
CREATED:20250626T181812Z
LAST-MODIFIED:20250628T134915Z
UID:23852-1752953400-1752957000@hblt.co.uk
SUMMARY:Powerful
DESCRIPTION:Powerful \nA comedy cabaret cocktail by one woman who thrives on live connections with YOU. What’s it about? Grabbing life by the t**ts and creating your own narrative. A solo show for people who love feeling part of a community\, with song\, dance\, story-telling\, poetry\, puppetry\, and a sprinkling of burlesque! \n“…a person at the very top of her game\, doing everything she can to be the very best she can – it was a  privilege to witness that. She was funny and clever\, and vulnerable and wise all in the same few minutes”\nNick Yardley \nSaturday 19th July\n19h30-20h30 \n*approx one hour duration \nTICKETS AVAILABLE NOW
URL:https://hblt.co.uk/diary/powerful
LOCATION:Hebden Bridge Little Theatre\, Holme Street\, Hebden Bridge\, HX7 8EE
CATEGORIES:External
ATTACH;FMTTYPE=image/jpeg:https://hblt.co.uk/wp-content/uploads/2025/06/POWERFUL-Kerry-Leigh.jpg
END:VEVENT
BEGIN:VEVENT
DTSTART;TZID=UTC:20250720T193000
DTEND;TZID=UTC:20250720T220000
DTSTAMP:20260424T094227
CREATED:20250626T182817Z
LAST-MODIFIED:20250626T182817Z
UID:23855-1753039800-1753048800@hblt.co.uk
SUMMARY:THE CHRIS IRVIN CONCERT ORCHESTRA presents 'A Concert of Light Classical & Popular Music'
DESCRIPTION:THE CHRIS IRVIN CONCERT ORCHESTRA presents ‘A Concert of Light Classical & Popular Music’ \nJoin us for an evening concert of Light Classical and popular music at the Hebden Bridge Little Theatre. \nSunday\, 20th July\, 2025 – 19:30 to 22:00 \nTickets available here!
URL:https://hblt.co.uk/diary/the-chris-irvin-concert-orchestra-presents-a-concert-of-light-classical-popular-music
CATEGORIES:External
ATTACH;FMTTYPE=image/jpeg:https://hblt.co.uk/wp-content/uploads/2025/06/Screenshot-2025-06-26-192644.jpg
END:VEVENT
END:VCALENDAR