BEGIN:VCALENDAR
VERSION:2.0
PRODID:-//Hebden Bridge Little Theatre - ECPv6.15.19//NONSGML v1.0//EN
CALSCALE:GREGORIAN
METHOD:PUBLISH
X-WR-CALNAME:Hebden Bridge Little Theatre
X-ORIGINAL-URL:https://hblt.co.uk
X-WR-CALDESC:Events for Hebden Bridge Little Theatre
REFRESH-INTERVAL;VALUE=DURATION:PT1H
X-Robots-Tag:noindex
X-PUBLISHED-TTL:PT1H
BEGIN:VTIMEZONE
TZID:UTC
BEGIN:STANDARD
TZOFFSETFROM:+0000
TZOFFSETTO:+0000
TZNAME:UTC
DTSTART:20230101T000000
END:STANDARD
END:VTIMEZONE
BEGIN:VEVENT
DTSTART;TZID=UTC:20241214T193000
DTEND;TZID=UTC:20241214T213000
DTSTAMP:20260424T095507
CREATED:20241125T173023Z
LAST-MODIFIED:20241125T173023Z
UID:19737-1734204600-1734211800@hblt.co.uk
SUMMARY:An Evening of Christmas Entertainment
DESCRIPTION:An Evening of Christmas Entertainment \nDecember 14th \nTo complete a wonderful Centenary Year\, we are reviving our ever popular Christmas Concert. A nostalgic look back at the eccentricities of past seasonal variety shows will be performed on Saturday December 14th at 7.30 pm. \nThere will be music from the 1920s played by Chris Irvine’s  little orchestra\, songs and solo instrumental pieces given by members more often seen acting on stage. Two of Jenny Gore’s quirky sketches featuring  single letters of the alphabet will be performed again\, and another sketch by Chris Berry will enjoy its premiere to bring the centenary up to the present time. Marvellous magic will be seen amongst all the other acts\, to delight and mystify you\, and stories and poems will be included amongst the events. \nFree Christmas refreshments  for all will be available during the interval\, and the bar will be open throughout. \nThis cornucopia of delight can be obtained for the price of £5 at the door\, with no reserved seats\, so it’s first come\, first served.  \nDoors open at 7pm. \nDon’t miss it!
URL:https://hblt.co.uk/diary/an-evening-of-christmas-entertainment
LOCATION:Hebden Bridge Little Theatre\, Holme Street\, Hebden Bridge\, HX7 8EE
CATEGORIES:Internal
ATTACH;FMTTYPE=image/jpeg:https://hblt.co.uk/wp-content/uploads/2024/11/xmas.jpg
END:VEVENT
END:VCALENDAR