BEGIN:VCALENDAR
VERSION:2.0
PRODID:-//Hebden Bridge Little Theatre - ECPv6.15.19//NONSGML v1.0//EN
CALSCALE:GREGORIAN
METHOD:PUBLISH
X-ORIGINAL-URL:https://hblt.co.uk
X-WR-CALDESC:Events for Hebden Bridge Little Theatre
REFRESH-INTERVAL;VALUE=DURATION:PT1H
X-Robots-Tag:noindex
X-PUBLISHED-TTL:PT1H
BEGIN:VTIMEZONE
TZID:UTC
BEGIN:STANDARD
TZOFFSETFROM:+0000
TZOFFSETTO:+0000
TZNAME:UTC
DTSTART:20230101T000000
END:STANDARD
END:VTIMEZONE
BEGIN:VEVENT
DTSTART;TZID=UTC:20240203T180000
DTEND;TZID=UTC:20240203T223000
DTSTAMP:20260422T112559
CREATED:20231218T111154Z
LAST-MODIFIED:20231218T111154Z
UID:15684-1706983200-1706999400@hblt.co.uk
SUMMARY:Gary Meikle
DESCRIPTION:GARY MEIKLE IS COMING BACK TO HEBDEN BRIDGE LITTLE THEATRE!! \nSATURDAY 3RD FEBRUARY FOR TWO SHOWS\n\n6PM (doors at open 5:30) AND 8PM (doors open at 7:30) \nTICKETS AVAILABLE FROM: \n\n6PM – www.seetickets.com\n\n8PM – www.seetickets.com
URL:https://hblt.co.uk/diary/gary-meikle
CATEGORIES:External
ATTACH;FMTTYPE=image/jpeg:https://hblt.co.uk/wp-content/uploads/2023/12/Gary-Meikle.jpg
END:VEVENT
END:VCALENDAR