BEGIN:VCALENDAR
VERSION:2.0
PRODID:-//Hebden Bridge Little Theatre - ECPv6.15.19//NONSGML v1.0//EN
CALSCALE:GREGORIAN
METHOD:PUBLISH
X-WR-CALNAME:Hebden Bridge Little Theatre
X-ORIGINAL-URL:https://hblt.co.uk
X-WR-CALDESC:Events for Hebden Bridge Little Theatre
REFRESH-INTERVAL;VALUE=DURATION:PT1H
X-Robots-Tag:noindex
X-PUBLISHED-TTL:PT1H
BEGIN:VTIMEZONE
TZID:UTC
BEGIN:STANDARD
TZOFFSETFROM:+0000
TZOFFSETTO:+0000
TZNAME:UTC
DTSTART:20200101T000000
END:STANDARD
END:VTIMEZONE
BEGIN:VEVENT
DTSTART;TZID=UTC:20211206T193000
DTEND;TZID=UTC:20211211T193000
DTSTAMP:20260424T110851
CREATED:20210807T134955Z
LAST-MODIFIED:20210807T135050Z
UID:13266-1638819000-1639251000@hblt.co.uk
SUMMARY:When We Are Married
DESCRIPTION:By J.B. Priestley\, directed by Ray Riches \nClecklewyke\, a town in the West Riding\, 1908. The Helliwells\, the Parkers and the Soppitts are highly respected pillars of their community…but not for much longer. Married on the same day in the same chapel\, 25 years earlier\, they gather to celebrate their Silver Wedding anniversaries\, only to discover that the vicar wasn’t licensed. They were never married\, and have been living in sin for the last 25 years! \nHorrified social embarrassment turns to the realisation that they’re free from the shackles of long\, tedious marriages. Home truths are dealt\, bullies get their come-uppance\, and the hen-pecked are hilariously and most satisfyingly liberated. \n  \nOriginally included in our abandoned 2020 Season\, When We Are Married marks the return to a regular programme\, at Hebden Bridge Little Theatre. \n  \n  \n  \n  \n  \n 
URL:https://hblt.co.uk/diary/when-we-are-married
LOCATION:Hebden Bridge Little Theatre\, Holme Street\, Hebden Bridge\, HX7 8EE
CATEGORIES:Internal
ATTACH;FMTTYPE=image/jpeg:https://hblt.co.uk/wp-content/uploads/2021/08/2021whenwearemarried4ws.jpg
END:VEVENT
END:VCALENDAR