BEGIN:VCALENDAR
VERSION:2.0
PRODID:-//Hebden Bridge Little Theatre - ECPv6.15.19//NONSGML v1.0//EN
CALSCALE:GREGORIAN
METHOD:PUBLISH
X-WR-CALNAME:Hebden Bridge Little Theatre
X-ORIGINAL-URL:https://hblt.co.uk
X-WR-CALDESC:Events for Hebden Bridge Little Theatre
REFRESH-INTERVAL;VALUE=DURATION:PT1H
X-Robots-Tag:noindex
X-PUBLISHED-TTL:PT1H
BEGIN:VTIMEZONE
TZID:UTC
BEGIN:STANDARD
TZOFFSETFROM:+0000
TZOFFSETTO:+0000
TZNAME:UTC
DTSTART:20180101T000000
END:STANDARD
END:VTIMEZONE
BEGIN:VEVENT
DTSTART;TZID=UTC:20190930T193000
DTEND;TZID=UTC:20191005T193000
DTSTAMP:20260425T102128
CREATED:20180912T162404Z
LAST-MODIFIED:20190516T124826Z
UID:8088-1569871800-1570303800@hblt.co.uk
SUMMARY:Theft
DESCRIPTION:By Eric Chappell\, directed by Ray Riches \nImagine returning from a pleasant anniversary celebration to find you’ve been burgled\, and the culprit is still in the house! Posing as a policeman\, the eccentric interloper is able to convince the returning couples of his innocence. But when he is eventually unmasked as the thief\, Spriggs reveals he knows a number of uncomfortable truths that will undermine two seemingly happy marriages and one formerly strong friendship. \nTheft is another hit comedy by prolific writer\, Eric Chappell\, author of Rising Damp and numerous stage plays.
URL:https://hblt.co.uk/diary/theft
LOCATION:Hebden Bridge Little Theatre\, Holme Street\, Hebden Bridge\, HX7 8EE
CATEGORIES:Internal
ATTACH;FMTTYPE=image/jpeg:https://hblt.co.uk/wp-content/uploads/2018/09/Theft.jpg
END:VEVENT
END:VCALENDAR