BEGIN:VCALENDAR
VERSION:2.0
PRODID:-//Hebden Bridge Little Theatre - ECPv6.15.19//NONSGML v1.0//EN
CALSCALE:GREGORIAN
METHOD:PUBLISH
X-ORIGINAL-URL:https://hblt.co.uk
X-WR-CALDESC:Events for Hebden Bridge Little Theatre
REFRESH-INTERVAL;VALUE=DURATION:PT1H
X-Robots-Tag:noindex
X-PUBLISHED-TTL:PT1H
BEGIN:VTIMEZONE
TZID:UTC
BEGIN:STANDARD
TZOFFSETFROM:+0000
TZOFFSETTO:+0000
TZNAME:UTC
DTSTART:20170101T000000
END:STANDARD
END:VTIMEZONE
BEGIN:VEVENT
DTSTART;TZID=UTC:20180310T193000
DTEND;TZID=UTC:20180310T220000
DTSTAMP:20260423T232614
CREATED:20180218T181916Z
LAST-MODIFIED:20180218T181916Z
UID:6570-1520710200-1520719200@hblt.co.uk
SUMMARY:Godfrey's Last Summer
DESCRIPTION:Talking Stock Productions are proud to present the world première of Alan Stockdill’s new play\, Godfrey’s Last Summer\, on Saturday 10 March\, at 7.30pm. \nGodfrey Shackleton\, international cricket umpire and famous Lottery winner\, is coming to the end of his innings. Before he leaves the Middle for the very last time he needs to put his affairs in order. \nJoin Godfrey’s journey through the tears and smiles as he spends his final summer. This gentle comedy drama is about life\, death\, dreams\, family\, fun and friendship. \nTalking Stock Productions’ witty\, charming and moving plays enjoy sell-out performances around the country. This play is the third to feature loveable Yorkshireman\, Godfrey Shackleton\, after Godfrey’s Last Stand and Godfrey’s Last Love. \nPlease note that it is not necessary to have seen the other two plays to enjoy this ‘stand alone’ story. \n‘Stockdill writes true northern characters to recognise and care about\, each with their own developed traits and quirks that resonate with our childhoods and memories’ (Halifax Courier) \nTickets are £10. Book online\, wegottickets.com/talkingstock\, or ring 07785 530129.
URL:https://hblt.co.uk/diary/shazia-mirza-2-3
LOCATION:Hebden Bridge Little Theatre\, Holme Street\, Hebden Bridge\, HX7 8EE
CATEGORIES:External
ATTACH;FMTTYPE=image/jpeg:https://hblt.co.uk/wp-content/uploads/2018/02/IMG_6990.jpg
END:VEVENT
END:VCALENDAR